BEGIN:VCALENDAR
VERSION:2.0
PRODID:-//Sabre//Sabre VObject 4.5.8//EN
CALSCALE:GREGORIAN
BEGIN:VTIMEZONE
TZID:Europe/Zurich
X-LIC-LOCATION:Europe/Zurich
TZURL:http://tzurl.org/zoneinfo/Europe/Zurich
BEGIN:DAYLIGHT
TZOFFSETFROM:+0100
TZOFFSETTO:+0200
TZNAME:CEST
DTSTART:19810329T020000
RRULE:FREQ=YEARLY;BYMONTH=3;BYDAY=-1SU
END:DAYLIGHT
BEGIN:STANDARD
TZOFFSETFROM:+0200
TZOFFSETTO:+0100
TZNAME:CET
DTSTART:19961027T030000
RRULE:FREQ=YEARLY;BYMONTH=10;BYDAY=-1SU
END:STANDARD
END:VTIMEZONE
BEGIN:VEVENT
UID:news87@neuronetwork.unibas.ch
DTSTAMP;TZID=Europe/Zurich:20260327T152329
DTSTART;TZID=Europe/Zurich:20260428T103000
SUMMARY:The influence of pre-sleep cognitions on sleep and dreams: empirica
 l evidence for dynamic cognitive-emotional reactivation
DESCRIPTION:Basel Seminar Series on Circadian Rhythms and Sleep
X-ALT-DESC:<p>Basel Seminar Series on Circadian Rhythms and Sleep</p>
DTEND;TZID=Europe/Zurich:20260428T113000
END:VEVENT
END:VCALENDAR
